BEGIN:VCALENDAR
VERSION:2.0
PRODID:-//World Police Summit - ECPv6.15.14//NONSGML v1.0//EN
CALSCALE:GREGORIAN
METHOD:PUBLISH
X-WR-CALNAME:World Police Summit
X-ORIGINAL-URL:https://worldpolicesummit.com
X-WR-CALDESC:Events for World Police Summit
REFRESH-INTERVAL;VALUE=DURATION:PT1H
X-Robots-Tag:noindex
X-PUBLISHED-TTL:PT1H
BEGIN:VTIMEZONE
TZID:Asia/Dubai
BEGIN:STANDARD
TZOFFSETFROM:+0400
TZOFFSETTO:+0400
TZNAME:+04
DTSTART:20250101T000000
END:STANDARD
END:VTIMEZONE
BEGIN:VEVENT
DTSTART;TZID=Asia/Dubai:20260623T090000
DTEND;TZID=Asia/Dubai:20260625T170000
DTSTAMP:20260420T010339
CREATED:20260119T063911Z
LAST-MODIFIED:20260119T065059Z
UID:3579-1782205200-1782406800@worldpolicesummit.com
SUMMARY:World Police Summit 2026
DESCRIPTION:
URL:https://worldpolicesummit.com/event/world-police-summit-2026/
LOCATION:World Police Summit\, Dubai World Trade Centre\, Dubai\, United Arab Emirates
END:VEVENT
END:VCALENDAR